BEGIN:VCALENDAR
VERSION:2.0
PRODID:-//SVP Senioren Kanton Bern //NONSGML Events //EN
CALSCALE:GREGORIAN
X-WR-CALNAME:SVP Senioren Kanton Bern
BEGIN:VEVENT
CREATED:20260422T080548Z
UID:3350
DTEND:20260503T000000
DTSTART:20260424T000000
DTSTAMP:20260423T110006Z
LOCATION:
DESCRIPTION:
SUMMARY:BEA
ORGANIZER:
URL;VALUE=URI:https://www.svp-senioren.ch/aktuell/termine/bea-3/
TRANSP:OPAQUE
END:VEVENT
END:VCALENDAR
