BEGIN:VCALENDAR
VERSION:2.0
PRODID:-//SVP Senioren Kanton Bern //NONSGML Events //EN
CALSCALE:GREGORIAN
X-WR-CALNAME:SVP Senioren Kanton Bern
BEGIN:VEVENT
CREATED:20260203T082745Z
UID:3270
DTEND:20260317T210000
DTSTART:20260317T200000
DTSTAMP:20260422T082808Z
LOCATION:Hotel Landhaus\, Frutigen
DESCRIPTION:
SUMMARY:SVP Frutigen &#8211\; Öffentlicher Informationsanlass
ORGANIZER:SVP Frutigen
URL;VALUE=URI:https://www.svp-senioren.ch/aktuell/termine/svp-frutigen-oeffentlicher-informationsanlass/
TRANSP:OPAQUE
END:VEVENT
END:VCALENDAR
