BEGIN:VCALENDAR
VERSION:2.0
PRODID:-//SVP Senioren Kanton Bern //NONSGML Events //EN
CALSCALE:GREGORIAN
X-WR-CALNAME:SVP Senioren Kanton Bern
BEGIN:VEVENT
CREATED:20240612T062156Z
UID:3001
DTEND:20240628T200000
DTSTART:20240628T190000
DTSTAMP:20260420T070136Z
LOCATION:Restaurant Kleefeld\, Mädergutstr. 5\, 3018 Bern
DESCRIPTION:
SUMMARY:SVP Stadt Bern &#8211\; Grillfest
ORGANIZER:
URL;VALUE=URI:https://www.svp-senioren.ch/aktuell/termine/svp-stadt-bern-grillfest-2/
TRANSP:OPAQUE
END:VEVENT
END:VCALENDAR
