BEGIN:VCALENDAR
VERSION:2.0
PRODID:-//SVP Senioren Kanton Bern //NONSGML Events //EN
CALSCALE:GREGORIAN
X-WR-CALNAME:SVP Senioren Kanton Bern
BEGIN:VEVENT
CREATED:20211027T060800Z
UID:2022
DTEND:20220513T000000
DTSTART:20220509T000000
DTSTAMP:20260422T224832Z
LOCATION:
DESCRIPTION:
SUMMARY:Start: Eidg. Sondersession
ORGANIZER:
URL;VALUE=URI:https://www.svp-senioren.ch/aktuell/termine/start-eidg-sondersession-3/
TRANSP:OPAQUE
END:VEVENT
END:VCALENDAR
